BEGIN:VCALENDAR
VERSION:2.0
PRODID:-//Sabre//Sabre VObject 3.5.3//EN
CALSCALE:GREGORIAN
BEGIN:VTIMEZONE
TZID:Europe/London
BEGIN:STANDARD
TZNAME:GMT
DTSTART:19701025T020000
RRULE:FREQ=YEARLY;BYMONTH=10;BYDAY=-1SU
TZOFFSETFROM:+0100
TZOFFSETTO:+0000
END:STANDARD
BEGIN:DAYLIGHT
TZNAME:BST
DTSTART:19700329T010000
RRULE:FREQ=YEARLY;BYMONTH=3;BYDAY=-1SU
TZOFFSETFROM:+0000
TZOFFSETTO:+0100
END:DAYLIGHT
END:VTIMEZONE
BEGIN:VEVENT
UID:event_312895@westonchoralsociety.org.uk
DTSTART;TZID=Europe/London:20260523T193000
DTEND;TZID=Europe/London:20260523T213000
SUMMARY:ELIJAH by Felix Mendelssohn (sung in English)
DESCRIPTION:Weston Choral Presents Mendelssohn&rsquo\;s Elijah - A Summer C
 oncert Highlight\n\nWeston Choral is delighted to announce its forthcoming
  Summer Concert\, to be held at All Saints Church\, Weston-super-Mare on S
 aturday 23 May 2026 at 7.30pm. This special evening will feature a perform
 ance of Felix Mendelssohn&rsquo\;s dramatic oratorio Elijah\, sung in Engl
 ish.\n\nTickets for this superb concert available online:&nbsp\; 13th Apri
 l - mark your calendar now!\n\n\n\nA cornerstone of the choral repertoire\
 , Elijah is a thrilling and deeply moving work that brings to life the bib
 lical story of the prophet Elijah through powerful choruses\, expressive a
 rias\, and richly dramatic orchestration. From the electrifying intensity 
 of &quot\;Baal\, we cry to thee&quot\; to the radiant beauty of &quot\;He 
 watching over Israel\,&quot\; Mendelssohn&rsquo\;s masterpiece promises an
  unforgettable musical journey for performers and audience alike.\n\nWesto
 n Choral is proud to present an outstanding quartet of soloists: Freya Hol
 liman (Soprano)\, Arina Lernik (Alto)\, Mike Gormley (Tenor)\, and Lucas M
 aunder (Bass)\, whose combined artistry will bring depth\, character\, and
  emotional intensity to this epic score.\n\nThe performance will be accomp
 anied by the much-loved and highly respected Richard Lennox\, whose musici
 anship and experience will add brilliance and sensitivity to the evening&r
 squo\;s music-making.\n\nSet within the majestic surroundings and acoustic
 s of All Saints Church\, this concert promises to be a major cultural high
 light of the season - a perfect opportunity for seasoned classical music l
 overs and newcomers alike to experience one of the greatest choral works e
 ver written.\n\nFor full event details\, visit: https://www.westonchoralso
 ciety.org.uk/dbpage.php?pg=view&dbase=events&id=312895
LOCATION:All Saints Road\, Weston-super-Mare\, BS23 2NL
URL:https://www.westonchoralsociety.org.uk/dbpage.php?pg=view&dbase=events&
 id=312895
END:VEVENT
END:VCALENDAR
